{
 "currentVersion": 11.0,
 "cimVersion": "3.0.0",
 "serviceDescription": "",
 "mapName": "Layers",
 "description": "",
 "copyrightText": "",
 "supportsDynamicLayers": true,
 "layers": [
  {
   "id": 0,
   "name": "CassCounty.sid",
   "parentLayerId": -1,
   "defaultVisibility": true,
   "subLayerIds": null,
   "minScale": 0,
   "maxScale": 0,
   "type": "Raster Layer",
   "supportsDynamicLegends": true
  }
 ],
 "tables": [],
 "spatialReference": {
  "wkid": 102721,
  "latestWkid": 102721,
  "xyTolerance": 0.003280833333333333,
  "zTolerance": 0.001,
  "mTolerance": 0.001,
  "falseX": -117105100,
  "falseY": -98987300,
  "xyUnits": 3.782198260042944E7,
  "falseZ": -100000,
  "zUnits": 10000,
  "falseM": -100000,
  "mUnits": 10000
 },
 "singleFusedMapCache": true,
 "tileInfo": {
  "rows": 256,
  "cols": 256,
  "dpi": 96,
  "format": "MIXED",
  "compressionQuality": 75,
  "origin": {
   "x": -117105100,
   "y": 139159900
  },
  "spatialReference": {
   "wkid": 102721,
   "latestWkid": 102721,
   "xyTolerance": 0.003280833333333333,
   "zTolerance": 0.001,
   "mTolerance": 0.001,
   "falseX": -117105100,
   "falseY": -98987300,
   "xyUnits": 3.782198260042944E7,
   "falseZ": -100000,
   "zUnits": 10000,
   "falseM": -100000,
   "mUnits": 10000
  },
  "lods": [
   {
    "level": 0,
    "resolution": 520.8333333333333,
    "scale": 600000
   },
   {
    "level": 1,
    "resolution": 434.02777777777777,
    "scale": 500000
   },
   {
    "level": 2,
    "resolution": 260.41666666666663,
    "scale": 300000
   },
   {
    "level": 3,
    "resolution": 130.20833333333331,
    "scale": 150000
   },
   {
    "level": 4,
    "resolution": 86.80555555555556,
    "scale": 100000
   },
   {
    "level": 5,
    "resolution": 43.40277777777778,
    "scale": 50000
   },
   {
    "level": 6,
    "resolution": 27.777777777777775,
    "scale": 32000
   },
   {
    "level": 7,
    "resolution": 13.888888888888888,
    "scale": 16000
   },
   {
    "level": 8,
    "resolution": 6.944444444444444,
    "scale": 8000
   },
   {
    "level": 9,
    "resolution": 6.25,
    "scale": 7200
   },
   {
    "level": 10,
    "resolution": 5.208333333333333,
    "scale": 6000
   },
   {
    "level": 11,
    "resolution": 4.166666666666666,
    "scale": 4800
   },
   {
    "level": 12,
    "resolution": 3.125,
    "scale": 3600
   },
   {
    "level": 13,
    "resolution": 2.083333333333333,
    "scale": 2400
   },
   {
    "level": 14,
    "resolution": 0.8680555555555555,
    "scale": 1000
   },
   {
    "level": 15,
    "resolution": 0.43402777777777773,
    "scale": 500
   }
  ]
 },
 "storageInfo": {
  "storageFormat": "esriMapCacheStorageModeCompactV2",
  "packetSize": 128
 },
 "initialExtent": {
  "xmin": 2684201.5984149855,
  "ymin": 327942.4087175792,
  "xmax": 2991093.9015850145,
  "ymax": 570703.5912824208,
  "spatialReference": {
   "wkid": 102721,
   "latestWkid": 102721,
   "xyTolerance": 0.003280833333333333,
   "zTolerance": 0.001,
   "mTolerance": 0.001,
   "falseX": -117105100,
   "falseY": -98987300,
   "xyUnits": 3.782198260042944E7,
   "falseZ": -100000,
   "zUnits": 10000,
   "falseM": -100000,
   "mUnits": 10000
  }
 },
 "fullExtent": {
  "xmin": 2767987.5,
  "ymin": 356946.5,
  "xmax": 2907308,
  "ymax": 541699.5,
  "spatialReference": {
   "wkid": 102721,
   "latestWkid": 102721,
   "xyTolerance": 0.003280833333333333,
   "zTolerance": 0.001,
   "mTolerance": 0.001,
   "falseX": -117105100,
   "falseY": -98987300,
   "xyUnits": 3.782198260042944E7,
   "falseZ": -100000,
   "zUnits": 10000,
   "falseM": -100000,
   "mUnits": 10000
  }
 },
 "datesInUnknownTimezone": false,
 "minScale": 600000,
 "maxScale": 500,
 "units": "esriFeet",
 "supportedImageFormatTypes": "PNG32,PNG24,PNG,JPG,DIB,TIFF,EMF,PS,PDF,GIF,SVG,SVGZ,BMP",
 "documentInfo": {
  "Title": "Untitled.aprx",
  "Author": "",
  "Comments": "",
  "Subject": "",
  "Category": "",
  "Version": "2.6.0",
  "AntialiasingMode": "Fast",
  "TextAntialiasingMode": "Force",
  "Keywords": ""
 },
 "supportsQueryDomains": true,
 "capabilities": "Map,Query,Data",
 "supportedQueryFormats": "JSON, geoJSON, PBF",
 "exportTilesAllowed": false,
 "referenceScale": 0.0,
 "supportsDatumTransformation": true,
 "archivingInfo": {
  "supportsHistoricMoment": false
 },
 "supportsClipping": true,
 "supportsSpatialFilter": true,
 "supportsTimeRelation": true,
 "supportsQueryDataElements": true,
 "maxRecordCount": 2000,
 "maxImageHeight": 4096,
 "maxImageWidth": 4096,
 "supportedExtensions": ""
}
